BEGIN:VCALENDAR
VERSION:2.0
PRODID:-//wp-events-plugin.com//7.2.3.1//EN
TZID:Europe/Berlin
X-WR-TIMEZONE:Europe/Berlin
BEGIN:VEVENT
UID:94@drtv.de
DTSTART;TZID=Europe/Berlin:20120603T104500
DTEND;TZID=Europe/Berlin:20120603T104500
DTSTAMP:20230713T184221Z
URL:https://drtv.de/events/werfertag-in-kassel/
SUMMARY:Werfertag in Kassel
DESCRIPTION:[prettyfilelink src="https://www.drtv.de/wp-content/uploads/201
 2/05/2012-06-03-Anwerfen-SAV-Kassel_Ergebnisliste.pdf" type="pdf"]Ergebnis
 liste[/prettyfilelink][prettyfilelink src="https://www.drtv.de/wp-content/
 uploads/2012/05/2012-06-03-Anwerfen-SAV-Kassel.rda" type="zip"]Ergebnisse 
 als rda-Datei[/prettyfilelink][prettyfilelink src="https://www.drtv.de/wp-
 content/uploads/2012/05/Werfertag-3-6-12-Kassel.pdf" type="pdf"]Ausschreib
 ung Kassel[/prettyfilelink]
CATEGORIES:Ergebnis Rasenkraftsport,Termin Rasenkraftsport
LOCATION:Kassel\, Am Auestadion\, Kassel\, Hessen\, 34121\, Deutschland
GEO:51.2977512;9.48186110000006
X-APPLE-STRUCTURED-LOCATION;VALUE=URI;X-ADDRESS=Am Auestadion\, Kassel\, He
 ssen\, 34121\, Deutschland;X-APPLE-RADIUS=100;X-TITLE=Kassel:geo:51.297751
 2,9.48186110000006
END:VEVENT
BEGIN:VTIMEZONE
TZID:Europe/Berlin
X-LIC-LOCATION:Europe/Berlin
BEGIN:DAYLIGHT
DTSTART:20120325T030000
TZOFFSETFROM:+0100
TZOFFSETTO:+0200
TZNAME:CEST
END:DAYLIGHT
END:VTIMEZONE
END:VCALENDAR