BEGIN:VCALENDAR
VERSION:2.0
PRODID:-//wp-events-plugin.com//7.2.3.1//EN
TZID:Europe/Berlin
X-WR-TIMEZONE:Europe/Berlin
BEGIN:VEVENT
UID:772@drtv.de
DTSTART;TZID=Europe/Berlin;VALUE=DATE:20160717
DTEND;TZID=Europe/Berlin;VALUE=DATE:20160718
DTSTAMP:20230713T183837Z
URL:https://drtv.de/events/werfertag-in-paderborn-5/
SUMMARY:Werfertag in Paderborn
DESCRIPTION:Veranstaltung des SC Grün-Weiss Paderborn.\n\nAusschreibung fo
 lgt.
CATEGORIES:Termin Rasenkraftsport
LOCATION:Paderborn\, Mährenstraße 35\, Paderborn\, NRW\, 33102\, Rothespo
 rtplatz\, Deutschland
GEO:51.7332918;8.759099099999957
X-APPLE-STRUCTURED-LOCATION;VALUE=URI;X-ADDRESS=Mährenstraße 35\, Paderbo
 rn\, NRW\, 33102\, Rothesportplatz\, Deutschland;X-APPLE-RADIUS=100;X-TITL
 E=Paderborn:geo:51.7332918,8.759099099999957
END:VEVENT
BEGIN:VTIMEZONE
TZID:Europe/Berlin
X-LIC-LOCATION:Europe/Berlin
BEGIN:DAYLIGHT
DTSTART:20160327T030000
TZOFFSETFROM:+0100
TZOFFSETTO:+0200
TZNAME:CEST
END:DAYLIGHT
END:VTIMEZONE
END:VCALENDAR