BEGIN:VCALENDAR
VERSION:2.0
PRODID:-//wp-events-plugin.com//7.2.3.1//EN
TZID:Europe/Berlin
X-WR-TIMEZONE:Europe/Berlin
BEGIN:VEVENT
UID:783@drtv.de
DTSTART;TZID=Europe/Berlin;VALUE=DATE:20160522
DTEND;TZID=Europe/Berlin;VALUE=DATE:20160523
DTSTAMP:20230713T183835Z
URL:https://drtv.de/events/werfertag-in-plettenberg-14/
SUMMARY:Werfertag in Plettenberg
DESCRIPTION:[prettyfilelink size="" src="https://www.drtv.de/wp-content/upl
 oads/2016/03/Werfertag-22052016_Ergebnisliste.html.pdf" type="pdf"]Werfert
 ag 22052016_Ergebnisliste.html[/prettyfilelink]\n\n[prettyfilelink size=""
  src="https://www.drtv.de/wp-content/uploads/2016/03/Terminplan-2016.doc" 
 type="doc"]Ausschreibung Werfertage in Plettenberg[/prettyfilelink]
CATEGORIES:Ergebnis Rasenkraftsport,Ergebnisdatei RDA liegt vor,Termin
 Rasenkraftsport
LOCATION:Plettenberg\, Am Hallenbad 6\, Plettenberg\, 58840\, Deutschland
GEO:51.23207;7.860159999999951
X-APPLE-STRUCTURED-LOCATION;VALUE=URI;X-ADDRESS=Am Hallenbad 6\, Plettenber
 g\, 58840\, Deutschland;X-APPLE-RADIUS=100;X-TITLE=Plettenberg:geo:51.2320
 7,7.860159999999951
END:VEVENT
BEGIN:VTIMEZONE
TZID:Europe/Berlin
X-LIC-LOCATION:Europe/Berlin
BEGIN:DAYLIGHT
DTSTART:20160327T030000
TZOFFSETFROM:+0100
TZOFFSETTO:+0200
TZNAME:CEST
END:DAYLIGHT
END:VTIMEZONE
END:VCALENDAR