BEGIN:VCALENDAR
VERSION:2.0
PRODID:-//wp-events-plugin.com//7.2.3.1//EN
TZID:Europe/Berlin
X-WR-TIMEZONE:Europe/Berlin
BEGIN:VEVENT
UID:815@drtv.de
DTSTART;TZID=Europe/Berlin;VALUE=DATE:20160904
DTEND;TZID=Europe/Berlin;VALUE=DATE:20160905
DTSTAMP:20230713T183827Z
URL:https://drtv.de/events/werfertag-in-plettenberg-dreikampf-3/
SUMMARY:Werfertag in Plettenberg - Dreikampf
DESCRIPTION:Wettkampf abgesagt\n\n[prettyfilelink size="" src="https://www.
 drtv.de/wp-content/uploads/2016/07/Terminplan-Plettenberg-2016-2.pdf" type
 ="pdf"]Terminplan Plettenberg-2016-2[/prettyfilelink]
CATEGORIES:Termin Rasenkraftsport
LOCATION:Plettenberg\, Am Hallenbad 6\, Plettenberg\, 58840\, Deutschland
GEO:51.23207;7.860159999999951
X-APPLE-STRUCTURED-LOCATION;VALUE=URI;X-ADDRESS=Am Hallenbad 6\, Plettenber
 g\, 58840\, Deutschland;X-APPLE-RADIUS=100;X-TITLE=Plettenberg:geo:51.2320
 7,7.860159999999951
END:VEVENT
BEGIN:VTIMEZONE
TZID:Europe/Berlin
X-LIC-LOCATION:Europe/Berlin
BEGIN:DAYLIGHT
DTSTART:20160327T030000
TZOFFSETFROM:+0100
TZOFFSETTO:+0200
TZNAME:CEST
END:DAYLIGHT
END:VTIMEZONE
END:VCALENDAR