BEGIN:VCALENDAR
VERSION:2.0
PRODID:-//wp-events-plugin.com//7.2.3.1//EN
TZID:Europe/Berlin
X-WR-TIMEZONE:Europe/Berlin
BEGIN:VEVENT
UID:1280@drtv.de
DTSTART;TZID=Europe/Berlin:20190818T000000
DTEND;TZID=Europe/Berlin:20190818T000000
DTSTAMP:20230713T183505Z
URL:https://drtv.de/events/wettkampf-zum-125-jaehrigen-jubilaeum-der-tsg-d
 issen/
SUMMARY:Wettkampf zum 125-jährigen Jubiläum der TSG Dissen
DESCRIPTION:[prettyfilelink size="" src="https://www.drtv.de/wp-content/upl
 oads/2019/06/Jubisportfest_Ergebnisliste-Kurzform.pdf" type="pdf"]Jubispor
 tfest_Ergebnisliste (Kurzform)[/prettyfilelink]\n\n[prettyfilelink size=""
  src="https://www.drtv.de/wp-content/uploads/2019/07/Ausschreibung-18.08.2
 019.pdf" type="pdf"]Ausschreibung 18.08.2019[/prettyfilelink]
CATEGORIES:Ergebnis Rasenkraftsport,Ergebnisdatei RDA liegt vor,Termin
 Rasenkraftsport,Termin Rasenkraftsport + Ausschr.
LOCATION:Dissen\, Sportfreianlage Dissen\, Mühlenstraße\, Dissen\, 49201\
 , Deutschland
GEO:52.1181596;8.201680099999976
X-APPLE-STRUCTURED-LOCATION;VALUE=URI;X-ADDRESS=Sportfreianlage Dissen\, M
 ühlenstraße\, Dissen\, 49201\, Deutschland;X-APPLE-RADIUS=100;X-TITLE=Di
 ssen:geo:52.1181596,8.201680099999976
END:VEVENT
BEGIN:VTIMEZONE
TZID:Europe/Berlin
X-LIC-LOCATION:Europe/Berlin
BEGIN:DAYLIGHT
DTSTART:20190331T030000
TZOFFSETFROM:+0100
TZOFFSETTO:+0200
TZNAME:CEST
END:DAYLIGHT
END:VTIMEZONE
END:VCALENDAR