BEGIN:VCALENDAR
VERSION:2.0
PRODID:-//wp-events-plugin.com//7.2.3.1//EN
TZID:Europe/Berlin
X-WR-TIMEZONE:Europe/Berlin
BEGIN:VEVENT
UID:554@drtv.de
DTSTART;TZID=Europe/Berlin;VALUE=DATE:20150627
DTEND;TZID=Europe/Berlin;VALUE=DATE:20150628
DTSTAMP:20230713T183942Z
URL:https://drtv.de/events/wrtv-aktive-b-jugend-b-schuler/
SUMMARY:Länder-Vergleichskampf  WRTV-Bayern-Hessen
DESCRIPTION:[prettyfilelink size="" src="https://www.drtv.de/wp-content/upl
 oads/2015/01/LVK2015-WRTV-BRTV_Ergebnisliste-Kurzform.htm" type="html"]Erg
 ebnisse-2015-LVK_2[/prettyfilelink][prettyfilelink size="" src="https://ww
 w.drtv.de/wp-content/uploads/2015/01/Ausschreibung-2015-LVK_2.pdf" type="p
 df"]Ausschreibung-2015-LVK_2[/prettyfilelink]
CATEGORIES:Ergebnis Rasenkraftsport,Termin Rasenkraftsport
LOCATION:Maselheim\, Wennedacher Str. 5\, Maselheim\, Württemberg\, 88437\
 , Oberschwaben\, Deutschland
GEO:48.133212;9.885989
X-APPLE-STRUCTURED-LOCATION;VALUE=URI;X-ADDRESS=Wennedacher Str. 5\, Maselh
 eim\, Württemberg\, 88437\, Oberschwaben\, Deutschland;X-APPLE-RADIUS=100
 ;X-TITLE=Maselheim:geo:48.133212,9.885989
END:VEVENT
BEGIN:VTIMEZONE
TZID:Europe/Berlin
X-LIC-LOCATION:Europe/Berlin
BEGIN:DAYLIGHT
DTSTART:20150329T030000
TZOFFSETFROM:+0100
TZOFFSETTO:+0200
TZNAME:CEST
END:DAYLIGHT
END:VTIMEZONE
END:VCALENDAR