BEGIN:VCALENDAR
VERSION:2.0
PRODID:-//wp-events-plugin.com//7.2.3.1//EN
TZID:Europe/Berlin
X-WR-TIMEZONE:Europe/Berlin
BEGIN:VEVENT
UID:191@drtv.de
DTSTART;TZID=Europe/Berlin:20130202T170000
DTEND;TZID=Europe/Berlin:20130202T170000
DTSTAMP:20230713T184157Z
URL:https://drtv.de/events/wrtv-brtv-fachtagung-tauziehen/
SUMMARY:WRTV- / BRTV Fachtagung Tauziehen
DESCRIPTION:[prettyfilelink src="https://www.drtv.de/wp-content/uploads/201
 3/01/Fachtagung-2012-Einladung.doc" type="doc"]Fachtagung 2013 - Einladung
 [/prettyfilelink]
CATEGORIES:Termin Tauziehen
LOCATION:Aalen-Wasseralfingen/Affalterried\, Onatsbachstrasse 30\, Aalen-Wa
 sseralfingen\, Württemberg\, 73433\, Deutschland
GEO:48.8648732;10.072091199999931
X-APPLE-STRUCTURED-LOCATION;VALUE=URI;X-ADDRESS=Onatsbachstrasse 30\, Aalen
 -Wasseralfingen\, Württemberg\, 73433\, Deutschland;X-APPLE-RADIUS=100;X-
 TITLE=Aalen-Wasseralfingen/Affalterried:geo:48.8648732,10.072091199999931
END:VEVENT
BEGIN:VTIMEZONE
TZID:Europe/Berlin
X-LIC-LOCATION:Europe/Berlin
BEGIN:STANDARD
DTSTART:20121028T020000
TZOFFSETFROM:+0200
TZOFFSETTO:+0100
TZNAME:CET
END:STANDARD
END:VTIMEZONE
END:VCALENDAR