BEGIN:VCALENDAR
VERSION:2.0
PRODID:-//wp-events-plugin.com//7.2.3.1//EN
TZID:Europe/Berlin
X-WR-TIMEZONE:Europe/Berlin
BEGIN:VEVENT
UID:1006@drtv.de
DTSTART;TZID=Europe/Berlin;VALUE=DATE:20180512
DTEND;TZID=Europe/Berlin;VALUE=DATE:20180513
DTSTAMP:20230713T183658Z
URL:https://drtv.de/events/wrtv-meisterschaften/
SUMMARY:WRTV Meisterschaften Aktive + Jugend B + SchülerB
DESCRIPTION:Ergebnisse:\n\n[prettyfilelink size="" src="https://www.drtv.de
 /wp-content/uploads/2017/12/Dischingen-2018-05-12_Ergebnisliste.pdf" type=
 "pdf"]Dischingen-2018-05-12_Ergebnisliste[/prettyfilelink]\n\nErgebnisse B
 undesliga-Wertung:\n\n[prettyfilelink size="" src="https://www.drtv.de/wp-
 content/uploads/2017/12/Dischingen-2018-05-12-BL_Ergebnisliste.pdf" type="
 pdf"]Dischingen-2018-05-12 -BL_Ergebnisliste[/prettyfilelink]\n\nTeilnehme
 r:\n\n[prettyfilelink size="" src="https://www.drtv.de/wp-content/uploads/
 2017/12/Dischingen-2018-05-12_Teilnehmerliste.pdf" type="pdf"]Dischingen-2
 018-05-12_Teilnehmerliste[/prettyfilelink]\n\n[prettyfilelink size="" src=
 "https://www.drtv.de/wp-content/uploads/2017/12/WRTV_Aktive_2018-Dischinge
 n.pdf" type="pdf"]WRTV_Aktive_2018-Dischingen[/prettyfilelink]\n\n&nbsp\;
CATEGORIES:Ergebnis Rasenkraftsport,Ergebnisdatei RDA liegt vor,Termin
 Rasenkraftsport
LOCATION:Dischingen\, Turnstraße 5\, Dischingen\, Baden-Württemberg\, 895
 61\, Werferplatz (an Egauhalle)\, Deutschland
GEO:48.69521;10.361009999999964
X-APPLE-STRUCTURED-LOCATION;VALUE=URI;X-ADDRESS=Turnstraße 5\, Dischingen\
 , Baden-Württemberg\, 89561\, Werferplatz (an Egauhalle)\, Deutschland;X-
 APPLE-RADIUS=100;X-TITLE=Dischingen:geo:48.69521,10.361009999999964
END:VEVENT
BEGIN:VTIMEZONE
TZID:Europe/Berlin
X-LIC-LOCATION:Europe/Berlin
BEGIN:DAYLIGHT
DTSTART:20180325T030000
TZOFFSETFROM:+0100
TZOFFSETTO:+0200
TZNAME:CEST
END:DAYLIGHT
END:VTIMEZONE
END:VCALENDAR