BEGIN:VCALENDAR
VERSION:2.0
PRODID:-//wp-events-plugin.com//7.2.3.1//EN
TZID:Europe/Berlin
X-WR-TIMEZONE:Europe/Berlin
BEGIN:VEVENT
UID:873@drtv.de
DTSTART;TZID=Europe/Berlin:20171015T100000
DTEND;TZID=Europe/Berlin:20171015T140000
DTSTAMP:20230713T183752Z
URL:https://drtv.de/events/wrtv-pokal-4/
SUMMARY:WRTV-Pokal
DESCRIPTION:[prettyfilelink size="" src="https://www.drtv.de/wp-content/upl
 oads/2016/12/POkal_v2_Ergebnisliste-Kurzform.pdf" type="pdf"]POkal_v2_Erge
 bnisliste (Kurzform)[/prettyfilelink]\n\n[prettyfilelink size="" src="http
 s://www.drtv.de/wp-content/uploads/2016/12/WRTV_Pokal_2017-3.pdf" type="pd
 f"]WRTV_Pokal_2017-3[/prettyfilelink]
CATEGORIES:Ergebnis Rasenkraftsport,Ergebnisdatei RDA liegt vor,Termin
 Rasenkraftsport
LOCATION:Ludwigsburg-Oßweil\, Walter-Flex-Str. 75\, Ludwigsburg-Oßweil\, 
 71640\, Deutschland
GEO:48.8968828;9.228563399999984
X-APPLE-STRUCTURED-LOCATION;VALUE=URI;X-ADDRESS=Walter-Flex-Str. 75\, Ludwi
 gsburg-Oßweil\, 71640\, Deutschland;X-APPLE-RADIUS=100;X-TITLE=Ludwigsbur
 g-Oßweil:geo:48.8968828,9.228563399999984
END:VEVENT
BEGIN:VTIMEZONE
TZID:Europe/Berlin
X-LIC-LOCATION:Europe/Berlin
BEGIN:DAYLIGHT
DTSTART:20170326T030000
TZOFFSETFROM:+0100
TZOFFSETTO:+0200
TZNAME:CEST
END:DAYLIGHT
END:VTIMEZONE
END:VCALENDAR