BEGIN:VCALENDAR
VERSION:2.0
PRODID:-//wp-events-plugin.com//7.2.3.1//EN
TZID:Europe/Berlin
X-WR-TIMEZONE:Europe/Berlin
BEGIN:VEVENT
UID:552@drtv.de
DTSTART;TZID=Europe/Berlin;VALUE=DATE:20150425
DTEND;TZID=Europe/Berlin;VALUE=DATE:20150426
DTSTAMP:20230713T183943Z
URL:https://drtv.de/events/wrtv-senioren-a-jugend-a-schuler-c-schuler/
SUMMARY:WRTV-Aktive + B-Jugend + B-Schüler
DESCRIPTION:&nbsp\;\n\n→  WRTV-2015-04-25-BL_Ergebnisliste\n\n→  WR
 TV-Aktive-2015-04-25-BL_Ergebnisliste\n\n→  WRTV-Aktive-2015-04-25_Erg
 ebnisliste (Kurzform)
CATEGORIES:Ergebnis Rasenkraftsport,Ergebnisdatei RDA liegt vor,Termin
 Rasenkraftsport
LOCATION:Dischingen\, Turnstraße 5\, Dischingen\, Baden-Württemberg\, 895
 61\, Werferplatz (an Egauhalle)\, Deutschland
GEO:48.69521;10.361009999999964
X-APPLE-STRUCTURED-LOCATION;VALUE=URI;X-ADDRESS=Turnstraße 5\, Dischingen\
 , Baden-Württemberg\, 89561\, Werferplatz (an Egauhalle)\, Deutschland;X-
 APPLE-RADIUS=100;X-TITLE=Dischingen:geo:48.69521,10.361009999999964
END:VEVENT
BEGIN:VTIMEZONE
TZID:Europe/Berlin
X-LIC-LOCATION:Europe/Berlin
BEGIN:DAYLIGHT
DTSTART:20150329T030000
TZOFFSETFROM:+0100
TZOFFSETTO:+0200
TZNAME:CEST
END:DAYLIGHT
END:VTIMEZONE
END:VCALENDAR