BEGIN:VCALENDAR
VERSION:2.0
PRODID:-//wp-events-plugin.com//7.2.3.1//EN
TZID:Europe/Berlin
X-WR-TIMEZONE:Europe/Berlin
BEGIN:VEVENT
UID:390@drtv.de
DTSTART;TZID=Europe/Berlin;VALUE=DATE:20140719
DTEND;TZID=Europe/Berlin;VALUE=DATE:20140720
DTSTAMP:20230713T184035Z
URL:https://drtv.de/events/wurttembergische-meisterschaften-im-rasenkrafts
 port-fur-senioren-a-jugend-a-schuler-c-schuler/
SUMMARY:Württembergische Meisterschaften im Rasenkraftsport für Aktive\, 
 B-Jugend und B-Schüler
DESCRIPTION:[prettyfilelink size="" src="https://www.drtv.de/wp-content/upl
 oads/2014/01/Ergebnisliste-Dischingen.pdf" type="pdf"]Ergebnisliste Dischi
 ngen[/prettyfilelink][prettyfilelink size="" src="https://www.drtv.de/wp-c
 ontent/uploads/2014/01/WRTV_MF_2014_neu.doc" type="doc"]WRTV_MF_2014_neu[/
 prettyfilelink]
CATEGORIES:Ergebnis Rasenkraftsport,Ergebnisdatei RDA liegt vor,Termin
 Rasenkraftsport
LOCATION:Dischingen\, Turnstraße 5\, Dischingen\, Baden-Württemberg\, 895
 61\, Werferplatz (an Egauhalle)\, Deutschland
GEO:48.69521;10.361009999999964
X-APPLE-STRUCTURED-LOCATION;VALUE=URI;X-ADDRESS=Turnstraße 5\, Dischingen\
 , Baden-Württemberg\, 89561\, Werferplatz (an Egauhalle)\, Deutschland;X-
 APPLE-RADIUS=100;X-TITLE=Dischingen:geo:48.69521,10.361009999999964
END:VEVENT
BEGIN:VTIMEZONE
TZID:Europe/Berlin
X-LIC-LOCATION:Europe/Berlin
BEGIN:DAYLIGHT
DTSTART:20140330T030000
TZOFFSETFROM:+0100
TZOFFSETTO:+0200
TZNAME:CEST
END:DAYLIGHT
END:VTIMEZONE
END:VCALENDAR